BEGIN:VCALENDAR
VERSION:2.0
PRODID:-//AudioTheme 2.1.1
BEGIN:VEVENT
UID:urn:uuid:4881ae49-09d8-4db2-839e-216d156f905f
URL:http://lauraschmid.com/shows/2019-08-03/
DTSTART;TZID=GMT:20190803T183000
SUMMARY:Davos Festival Young Artists in Concert
DESCRIPTION:Telemann - Hefti
LOCATION:Hotel Schweizerhof\, Promenade 50\, Davos\, \, Schweiz\, 7270
END:VEVENT
END:VCALENDAR
