BEGIN:VCALENDAR
VERSION:2.0
PRODID:-//AudioTheme 2.1.1
BEGIN:VEVENT
UID:urn:uuid:2ef548c0-ed8f-40c5-8b4d-48aa646fe696
URL:http://lauraschmid.com/shows/2019-08-15/
DTSTART;TZID=GMT:20190815T183000
SUMMARY:Davos Festival Young Artists in Concert
DESCRIPTION:Exil- Part 2
LOCATION:Hotel Schweizerhof\, Promenade 50\, Davos\, \, Schweiz\, 7270
END:VEVENT
END:VCALENDAR
