BEGIN:VCALENDAR
VERSION:2.0
PRODID:-//AudioTheme 2.1.1
BEGIN:VEVENT
UID:urn:uuid:87803d45-bd8e-47e4-b91f-7c541538b8f0
URL:http://lauraschmid.com/shows/5-recorders-2/
DTSTART;TZID=GMT:20190811T173000
SUMMARY:5 Recorders
DESCRIPTION:Nieder-Mooser-Konzertsommer
LOCATION:Evangelische Kirche Nieder-Moos\, Mittelgasse 5\, Freiensteinau/Nieder-Moos\, \, Deutschland\, 36399
END:VEVENT
END:VCALENDAR
