BEGIN:VCALENDAR
VERSION:2.0
PRODID:-//AudioTheme 2.1.1
BEGIN:VEVENT
UID:urn:uuid:8d77e94c-2129-45d3-ad93-f880fa39ed95
URL:http://lauraschmid.com/shows/davos-festival-young-artists-in-concert-4/
DTSTART;TZID=GMT:20190804T110000
SUMMARY:Davos Festival Young Artists in Concert
DESCRIPTION:Concert Walk
LOCATION:Englische Kirche Davos\, Scalettastrasse 1\, Davos Platz\, \, Schweiz\, 7270
END:VEVENT
END:VCALENDAR
