BEGIN:VCALENDAR
VERSION:2.0
PRODID:-//AudioTheme 2.1.1
BEGIN:VEVENT
UID:urn:uuid:e62ec1a9-416a-472e-aa41-60e39b33491b
URL:http://lauraschmid.com/shows/swiss-forum-for-young-chamber-music-camp-2019-2/
DTSTART;VALUE=DATE:20191101
SUMMARY:Swiss Forum for Young Chamber Music Camp 2019
DESCRIPTION:Promoting talent at Swiss music schools
LOCATION:Musikschule Konservatorium Bern\, Kramgasse 36\, Bern\, \, Schweiz\, 3011
END:VEVENT
END:VCALENDAR
